BEGIN:VCALENDAR
VERSION:2.0
PRODID:-//ChamberMaster//Event Calendar 2.0//EN
METHOD:PUBLISH
X-PUBLISHED-TTL:P3D
REFRESH-INTERVAL:P3D
CALSCALE:GREGORIAN
BEGIN:VEVENT
DTSTART:20210311T190000Z
DTEND:20210311T200000Z
X-MICROSOFT-CDO-ALLDAYEVENT:FALSE
SUMMARY:BOWDA Virtual Lunch\, March 11\, 2021
DESCRIPTION:Please join us as the President & Chairman of the Board of the Calgary Stampede\, Steve McDonough\, provides an update on the $500M BMO Centre expansion project that will be a catalyst to transform Calgary into a tier-one convention city and help to diversify the Southern Alberta economy through enhanced trade and tourism.
X-ALT-DESC;FMTTYPE=text/html:<em><span style="font-family:verdana\,sans-serif\;"><span style="font-size:10pt\;">Please join us as the President &amp\; Chairman of the Board of the Calgary Stampede\, Steve McDonough\, provides an update on the $500M BMO Centre expansion project that will be a catalyst to transform Calgary into a tier-one convention city and help to diversify the Southern Alberta economy through enhanced trade and tourism.</span></span></em>
LOCATION:Join Zoom Meeting https://us02web.zoom.us/j/84201666424?pwd=MEk3eWtRWDhqNVRKcm9qUXFtWW1Zdz09 Meeting ID: 842 0166 6424 Passcode: 513222 One tap mobile +15873281099\,\,84201666424#\,\,\,\,*513222# Canada +16473744685\,\,84201666424#\,\,\,\,*513222# Canada Dial by your location +1 587 328 1099 Canada +1 647 374 4685 Canada +1 647 558 0588 Canada +1 778 907 2071 Canada +1 204 272 7920 Canada +1 438 809 7799 Canada +1 312 626 6799 US (Chicago) +1 346 248 7799 US (Houston) +1 669 900 6833 US (San Jose) +1 929 205 6099 US (New York) +1 253 215 8782 US (Tacoma) +1 301 715 8592 US (Washington DC) Meeting ID: 842 0166 6424 Passcode: 513222 Find your local number: https://us02web.zoom.us/u/kcS8PLoseX
UID:e.9125.159
SEQUENCE:3
DTSTAMP:20260420T041526Z
URL:http://business.bowda.ca/events/details/bowda-virtual-lunch-march-11-2021-159
END:VEVENT

END:VCALENDAR
